Workbook
Name DATA1: #REF!
Name DATA1: #REF!
Name DATA10: #REF!
Name DATA10: #REF!
Name DATA100: #REF!
Name DATA100: #REF!
Name DATA101: #REF!
Name DATA101: #REF!
Name DATA102: #REF!
Name DATA102: #REF!
Name DATA103: #REF!
Name DATA103: #REF!
Name DATA104: #REF!
Name DATA104: #REF!
Name DATA105: #REF!
Name DATA105: #REF!
Name DATA106: #REF!
Name DATA106: #REF!
Name DATA107: #REF!
Name DATA107: #REF!
Name DATA11: #REF!
Name DATA11: #REF!
Name DATA12: #REF!
Name DATA12: #REF!
Name DATA13: #REF!
Name DATA13: #REF!
Name DATA14: #REF!
Name DATA14: #REF!
Name DATA15: #REF!
Name DATA15: #REF!
Name DATA16: #REF!
Name DATA16: #REF!
Name DATA17: #REF!
Name DATA17: #REF!
Name DATA18: #REF!
Name DATA18: #REF!
Name DATA19: #REF!
Name DATA19: #REF!
Name DATA2: #REF!
Name DATA2: #REF!
Name DATA20: #REF!
Name DATA20: #REF!
Name DATA21: #REF!
Name DATA21: #REF!
Name DATA22: #REF!
Name DATA22: #REF!
Name DATA23: #REF!
Name DATA23: #REF!
Name DATA24: #REF!
Name DATA24: #REF!
Name DATA25: #REF!
Name DATA25: #REF!
Name DATA26: #REF!
Name DATA26: #REF!
Name DATA27: #REF!
Name DATA27: #REF!
Name DATA28: #REF!
Name DATA28: #REF!
Name DATA29: #REF!
Name DATA29: #REF!

Sheet Instruction
B1: Instruction
B2: วัตถุประสงค์ (Objectives)
B3: 1. เพื่อกำหนดแนวทางในการขอสร้าง Dimension ให้เป็นมาตรฐานเดียวกัน
B4: 2. เพื่อให้ข้อมูล Dimension บนระบบ Microsoft Dynamics 365 BC มีความถูกต้องและครบถ้วน
B5: 3. เพื่อป้องกันการสร้างข้อมูลซ้ำซ้อนและลดข้อผิดพลาดในการบันทึกข้อมูล
B6: 4. เพื่อกำหนดหน้าที่และความรับผิดชอบของผู้ขอ ผู้อนุมัติ และผู้ดำเนินการได้อย่างชัดเจน
B7: 5. เพื่อให้การดำเนินการได้รับการอนุมัติอย่างเหมาะสม และสามารถตรวจสอบย้อนหลังได้
B10: คำแนะนำในการกรอกและส่งแบบฟอร์ม (Instructions)
B11: สำหรับผู้ใช้งาน กรอกข้อมูลในชีท "Dimension Request Form"
B12: 1. ระบุเหตุผลในการขอสร้าง หรือแก้ไข Dimension
B13: 2. กรอกข้อมูลที่จำเป็นในหัวข้อที่มีเครื่องหมายดอกจัน (*) ให้ครบถ้วน
B14: 3. ช่องสีเทาสำหรับ BA เป็นผู้กรอกข้อมูลเท่านั้น
... B20: หากต้องการเพิ่มหรือแก้ไขข้อมูลมากกว่า 1 รายการ กรุณาคัดลอกแถวเพื่อกรอกข้อมูลเพิ่มเติม

Sheet Request for
A1: Request for
A3: Create | B3: สร้าง
A4: Change | B4: แก้ไข
A5: Blocked | B5: ระงับการใช้งาน
A6: Delete | B6: ลบ

Sheet Dimension Request Form
A1: Dimension Maintenance Request Form (for MS365BC) | AG1: No.
A2: For Requester
B4: Requester Name* | AA4: Request Date*
B6: Department* | AA6: Position*
B8: Email* | AA8: Contact No.
B11: Reason for request*
A19: Request Type
B21: Request for* | M21: =_xlfn.XLOOKUP(G21,'Request for'!A3:A6,'Request for'!B3:B6) -> #N/A
A23: Dimension - Cost Center แผนก
B25: Company Code*
B27: Cost Center Code | H27: =LEFT(G25,1) | I27: =RIGHT(LEFT(G25,2),1) | J27: =RIGHT(LEFT(G25,3),1) | R27: *สำหรับ BA กรอกข้อมูล
B29: Valid Date From*
B31: Name (Eng/TH, 100 Chars)*
A33: Dimension - Project โครงการ
B35: Company Code*
B37: Project Code*
B39: Valid Date From*
B41: Name (Eng/TH, 100 Chars)*
A43: Dimension - Customer ลูกค้า (เฉพาะรายการ RPT)
B45: Company Code*
B47: Customer/Vendor Code*
B49: Valid Date From*
B51: Name (Eng/TH, 100 Chars)*
A53: Dimension - Vendor เจ้าหนี้ (เฉพาะรายการ RPT)
B55: Company Code*
B57: Customer/Vendor Code*
B59: Valid Date From*
B61: Name (Eng/TH, 100 Chars)*
A63: Dimension - Billing เลขตามสัญญา *BGSR Only
B65: Company Code*
B67: Billing Code*
B69: Valid Date From*
B71: Name (Eng/TH, 100 Chars)*
A73: Dimension - Com Branch สาขาของบริษัท
B75: Company Code* | AF75: =_xlfn.XLOOKUP(G75,'Company Code'!A:A,'Company Code'!B:B)&"-"&"B"&G77 -> -B
B77: Branch No.* | S77: =_xlfn.XLOOKUP(G75,'Company Code'!A:A,'Company Code'!G:G) -> 0
B79: Valid Date From*
B81: Com Branch Code | H81: =MID(AF75,COLUMN(A1),1) -> - | I81: =MID(AF75,COLUMN(B1),1) -> B | J81: =MID(AF75,COLUMN(C1),1) | K81: =MID(AF75,COLUMN(D1),1) | L81: =MID(AF75,COLUMN(E1),1) | M81: =MID(AF75,COLUMN(F1),1) | N81: =MID(AF75,COLUMN(G1),1) | O81: =MID(AF75,COLUMN(H1),1) | P81: =MID(AF75,COLUMN(I1),1) | Q81: =MID(AF75,COLUMN(J1),1) | R81: *สำหรับ BA กรอกข้อมูล | AQ81: B = Branch
AQ82: X = Running สาขา
B83: Name (Eng/TH, 100 Chars) | J83: =S77&"-"&"สาขา"&" "&G77 -> 0-สาขา | AE83: *สำหรับ BA กรอกข้อมูล
...

Sheet Example_Dimension Request Form
A1: Dimension Maintenance Request Form (for MS365BC) | AG1: No.
A2: For Requester
B4: Requester Name* | H4: Wansinee Suphunarat | AA4: Request Date* | AF4: 1 | AG4: 9 | AI4: 1 | AJ4: 0 | AL4: 2 | AM4: 0 | AN4: 2 | AO4: 6
B6: Department* | H6: Finance | AA6: Position* | AF6: Business Analyst
B8: Email* | H8: wansinee.s@btsgroup.co.th | AA8: Contact No.
B11: Reason for request*
B13: Ex.เพื่อใช้บันทึกและติดตามค่าใช้จ่ายของหน่วยงาน โดยแยกตาม Cost Center
A19: Request Type
B21: Request for* | G21: Create | M21: =_xlfn.XLOOKUP(G21,'Request for'!A3:A6,'Request for'!B3:B6) -> สร้าง
A23: Dimension - Cost Center แผนก
B25: Company Code* | G25: F010 : FSF มูลนิธิฟ้าสั่ง
B27: Cost Center Code | H27: =LEFT(G25,1) -> F | I27: =RIGHT(LEFT(G25,2),1) -> 0 | J27: =RIGHT(LEFT(G25,3),1) -> 1 | K27: 0 | L27: 0 | M27: 0 | N27: 0 | O27: 0 | P27: 2 | Q27: 0 | R27: *สำหรับ BA กรอกข้อมูล
B29: Valid Date From* | H29: 1 | I29: 9 | K29: 1 | L29: 0 | N29: 2 | O29: 0 | P29: 2 | Q29: 6
B31: Name (Eng/TH, 100 Chars)* | J31: FSF-HO-Admin
A33: Dimension - Project โครงการ
B35: Company Code* | G35: S040 : SCS บริษัท สมาร์ท คลีนนิ่ง โซลูชัน จำกัด
B37: Project Code* | G37: YELLOW LINE-OUT
B39: Valid Date From* | H39: 1 | I39: 9 | K39: 1 | L39: 0 | N39: 2 | O39: 0 | P39: 2 | Q39: 6
B41: Name (Eng/TH, 100 Chars)* | J41: Yellow Line Out
A43: Dimension - Customer ลูกค้า (เฉพาะรายการ RPT)
B45: Company Code* | G45: S050 : F5 บริษัท ฟอร์เมชั่น ไฟฟ์ จำกัด
B47: Customer/Vendor Code* | I47: 10000001
B49: Valid Date From* | H49: 1 | I49: 9 | K49: 1 | L49: 0 | N49: 2 | O49: 0 | P49: 2 | Q49: 6
B51: Name (Eng/TH, 100 Chars)* | J51: บริษัท บีทีเอส กรุ๊ป โฮลดิ้งส์ จำกัด (มหาชน)
A53: Dimension - Vendor เจ้าหนี้ (เฉพาะรายการ RPT)
B55: Company Code* | G55: R010 : Alpea บริษัท อัลเปียร์ จำกัด
B57: Customer/Vendor Code* | I57: 10002448
B59: Valid Date From* | H59: 1 | I59: 9 | K59: 1 | L59: 0 | N59: 2 | O59: 0 | P59: 2 | Q59: 6
B61: Name (Eng/TH, 100 Chars)* | J61: บริษัท เทอร์เทิล ทเวนตี้ทรี จำกัด
A63: Dimension - Billing เลขตามสัญญา *BGSR Only
B65: Company Code* | G65: S010 : BGSR6 บริษัท บีจีเอสอาร์ 6 จำกัด
B67: Billing Code* | G67: BILL 7
B69: Valid Date From* | H69: 1 | I69: 9 | K69: 1 | L69: 0 | N69: 2 | O69: 0 | P69: 2 | Q69: 6
B71: Name (Eng/TH, 100 Chars)* | J71: BILL 7 Finance Cost
A73: Dimension - Com Branch สาขาของบริษัท
B75: Company Code* | G75: F020 : FSH บริษัท ศูนย์ไตเทียมฟ้าสั่ง จำกัด | AF75: =_xlfn.XLOOKUP(G75,'Company Code'!A:A,'Company Code'!B:B)&"-"&"B"&G77 -> FSH-B10
B77: Branch No.* | G77: 10 | S77: =_xlfn.XLOOKUP(G75,'Company Code'!A:A,'Company Code'!G:G) -> บริษัท ศูนย์ไตเทียมฟ้าสั่ง จำกัด
B79: Valid Date From* | H79: 1 | I79: 9 | K79: 1 | L79: 0 | N79: 2 | O79: 0 | P79: 2 | Q79: 6
B81: Com Branch Code | H81: =MID(AF75,COLUMN(A1),1) -> F | I81: =MID(AF75,COLUMN(B1),1) -> S | J81: =MID(AF75,COLUMN(C1),1) -> H | K81: =MID(AF75,COLUMN(D1),1) -> - | L81: =MID(AF75,COLUMN(E1),1) -> B | M81: =MID(AF75,COLUMN(F1),1) -> 1 | N81: =MID(AF75,COLUMN(G1),1) -> 0 | O81: =MID(AF75,COLUMN(H1),1) | P81: =MID(AF75,COLUMN(I1),1) | Q81: =MID(AF75,COLUMN(J1),1) | R81: *สำหรับ BA กรอกข้อมูล | AQ81: B = Branch
AQ82: X = Running สาขา
...

Sheet Form example
A1: Dimension Request Form | AG1: No.
A2: For Requester
B4: Requester Name | I4: Wirada K. | AA4: Request Date | AF4: 0 | AG4: 2 | AH4: . | AI4: 0 | AJ4: 4 | AK4: . | AL4: 2 | AM4: 0 | AN4: 2 | AO4: 6
B6: Department | I6: BCAF | AA6: Division | AG6: Accounting
B8: Email | I8: wirada@btsgroup.co.th | AA8: Contact No.
B11: Specify attached related document (eg. New Profit Center MOM): | AQ11: *สามารถอธิบายรายละเอียดของการขอสร้าง Dimension เพิ่มเติมได้
A19: Request type
B21: Request for* | G21: Create
A23: Dimension - Cost Center
B25: Company Code* | G25: S040 บริษัท สมาร์ท คลีนนิ่ง โซลูชัน จำกัด | AQ25: *ระบุบริษัทของท่าน
B27: Dimension Type | G27: Standard | S27: Cost Center Code* | Y27: =LEFT(G25,1) -> S | Z27: =RIGHT(LEFT(G25,2),1) -> 0 | AA27: =RIGHT(LEFT(G25,3),1) -> 4
B29: Valid Date From* | H29: 0 | I29: 2 | J29: . | K29: 0 | L29: 4 | M29: . | N29: 2 | O29: 0 | P29: 2 | Q29: 6 | W29: Valid Date To* | AC29: 9 | AD29: 9 | AE29: . | AF29: 9 | AG29: 9 | AH29: . | AI29: 9 | AJ29: 9 | AK29: 9 | AL29: 9
B31: Name (Eng/TH, 100 Chars)* | J31: Housemaid/แม่บ้าน
A33: Dimension - Project
B35: Company Code* | G35: F020 บริษัท ศูนย์ไตเทียมฟ้าสั่ง จำกัด
B37: Dimension Type | G37: Standard | S37: Project Code* | Y37: N | Z37: A | AA37: K | AB37: H | AC37: O | AD37: N | AE37: S | AF37: W | AG37: A | AH37: N | AQ37: *โปรดระบุ ชื่อ Project ที่ท่านต้องการสร้าง
B39: Valid Date From* | H39: 0 | I39: 2 | J39: . | K39: 0 | L39: 4 | M39: . | N39: 2 | O39: 0 | P39: 2 | Q39: 6 | W39: Valid Date To* | AC39: 9 | AD39: 9 | AE39: . | AF39: 9 | AG39: 9 | AH39: . | AI39: 9 | AJ39: 9 | AK39: 9 | AL39: 9
B41: Name (Eng/TH, 100 Chars)* | J41: Nakhon-Swan/นครสววรค์
A43: Dimension - Customer/Vendor
B45: Company Code* | G45: R010 บริษัท อัลเปียร์ จำกัด
B47: Dimension Type | G47: Standard | W47: Customer/Vendor Code*
B49: Valid Date From* | H49: 0 | I49: 2 | J49: . | K49: 0 | L49: 4 | M49: . | N49: 2 | O49: 0 | P49: 2 | Q49: 6 | W49: Valid Date To* | AC49: 9 | AD49: 9 | AE49: . | AF49: 9 | AG49: 9 | AH49: . | AI49: 9 | AJ49: 9 | AK49: 9 | AL49: 9
B51: Name (Eng/TH, 100 Chars)* | J51: Vender/Customer code + name | AQ51: *โปรดระบุ รหัสและชื่อบริษัท (จำเป็นต้องสร้าง Vendor/Customer card ก่อน)
A53: Dimension - Billing
B55: Company Code* | G55: S020 บริษัท บีจีเอสอาร์ 81 จำกัด | AF55: BGSR only**
B57: Dimension Type | G57: Standard | S57: Billing Code* | Y57: B | Z57: I | AA57: L | AB57: L
B59: Valid Date From* | H59: 0 | I59: 2 | J59: . | K59: 0 | L59: 4 | M59: . | N59: 2 | O59: 0 | P59: 2 | Q59: 6 | W59: Valid Date To* | AC59: 9 | AD59: 9 | AE59: . | AF59: 9 | AG59: 9 | AH59: . | AI59: 9 | AJ59: 9 | AK59: 9 | AL59: 9
B61: Name (Eng/TH, 100 Chars)* | J61: BILL PROJECT NAME
A63: Dimension - Com Branch
B65: Company Code* | G65: S010 บริษัท บีจีเอสอาร์ 6 จำกัด | AF65: =_xlfn.XLOOKUP(G65,'Company Code'!A:A,'Company Code'!B:B)&"-"&"B" -> #N/A
B67: Dimension Type | G67: Standard | S67: Com Branch Code* | Y67: =MID($AF$65,COLUMN(A1),1) -> #N/A | Z67: =MID($AF$65,COLUMN(B1),1) -> #N/A | AA67: =MID($AF$65,COLUMN(C1),1) -> #N/A | AB67: =MID($AF$65,COLUMN(D1),1) -> #N/A | AC67: =MID($AF$65,COLUMN(E1),1) -> #N/A | AD67: =MID($AF$65,COLUMN(F1),1) -> #N/A | AE67: =MID($AF$65,COLUMN(G1),1) -> #N/A | AF67: =MID($AF$65,COLUMN(H1),1) -> #N/A | ... AH67: =MID($AF$65,COLUMN(J1),1) -> #N/A | AI67: ห้ามแก้
B69: Valid Date From* | H69: 0 | I69: 2 | J69: . | K69: 0 | L69: 4 | M69: . | N69: 2 | O69: 0 | P69: 2 | Q69: 6 | W69: Valid Date To* | AC69: 9 | AD69: 9 | AE69: . | AF69: 9 | AG69: 9 | AH69: . | AI69: 9 | AJ69: 9 | AK69: 9 | AL69: 9
B71: Name (Eng/TH, 100 Chars)* | J71: บริษัท ธิติฎฐ์ โฮลดิ้งส์ จำกัด-สาขา 1 | AQ71: *โปรดระบุ ชื่อสาขา
B74: Requested by | P74: Approved by | AD74: Entered by
B78: ( | M78: ) | P78: ( | AA78: ) | AD78: ( | AO78: )
B80: Date | F80: . | I80: . | P80: Date | T80: . | W80: . | AD80: Date | AH80: . | AK80: .

Sheet Company Code
A1: Company Code and Name | C1: T001 | E1: ADRC
A3: =C3&" "&":"&" "&B3&F3&G3&H3&I3 -> F010 : FSF มูลนิธิฟ้าสั่ง | B3: FSF | C3: F010 | G3: มูลนิธิฟ้าสั่ง
A4: =C4&" "&":"&" "&B4&F4&G4&H4&I4 -> F020 : FSH บริษัท ศูนย์ไตเทียมฟ้าสั่ง จำกัด | B4: FSH | C4: F020 | G4: บริษัท ศูนย์ไตเทียมฟ้าสั่ง จำกัด
A5: =C5&" "&":"&" "&B5&F5&G5&H5&I5 -> O010 : KIN บริษัท คินส์ เวนเจอร์ส จำกัด | B5: KIN | C5: O010 | G5: บริษัท คินส์ เวนเจอร์ส จำกัด
A6: =C6&" "&":"&" "&B6&F6&G6&H6&I6 -> O020 : Gaik บริษัท เก๊ก จำกัด | B6: Gaik | C6: O020 | G6: บริษัท เก๊ก จำกัด
A7: =C7&" "&":"&" "&B7&F7&G7&H7&I7 -> O030 : KFV บริษัท คิง ฟอร์จูน เวนเจอร์ จำกัด | B7: KFV | C7: O030 | G7: บริษัท คิง ฟอร์จูน เวนเจอร์ จำกัด
A8: =C8&" "&":"&" "&B8&F8&G8&H8&I8 -> O040 : PCSC บริษัท เพียว ซิตี้ โซลูชั่นส์ จำกัด | B8: PCSC | C8: O040 | G8: บริษัท เพียว ซิตี้ โซลูชั่นส์ จำกัด
A9: =C9&" "&":"&" "&B9&F9&G9&H9&I9 -> O050 : CB บริษัท เดอะ แชมเบอร์เลน จำกัด | B9: CB | C9: O050 | G9: บริษัท เดอะ แชมเบอร์เลน จำกัด
A10: =C10&" "&":"&" "&B10&F10&G10&H10&I10 -> O060 : ECS บริษัท อีโค-ไซเคิล โซลูชั่นส์ จำกัด | B10: ECS | C10: O060 | G10: บริษัท อีโค-ไซเคิล โซลูชั่นส์ จำกัด
A11: =C11&" "&":"&" "&B11&F11&G11&H11&I11 -> O070 : EV บริษัท อีเวนโต้ มอนโด้ จำกัด | B11: EV | C11: O070 | G11: บริษัท อีเวนโต้ มอนโด้ จำกัด
A12: =C12&" "&":"&" "&B12&F12&G12&H12&I12 -> O080 : MM บริษัท โมเมนโต้ จำกัด | B12: MM | C12: O080 | G12: บริษัท โมเมนโต้ จำกัด
A13: =C13&" "&":"&" "&B13&F13&G13&H13&I13 -> P010 : UTAL1 บริษัท ยูทีเอ แลนด์ 1 จำกัด | B13: UTAL1 | C13: P010 | G13: บริษัท ยูทีเอ แลนด์ 1 จำกัด
A14: =C14&" "&":"&" "&B14&F14&G14&H14&I14 -> P020 : UTAL2 บริษัท ยูทีเอ แลนด์ 2 จำกัด | B14: UTAL2 | C14: P020 | G14: บริษัท ยูทีเอ แลนด์ 2 จำกัด
... A30: =C30&" "&":"&" "&B30&F30&G30&H30&I30 -> S050 : F5 บริษัท ฟอร์เมชั่น ไฟฟ์ จำกัด | B30: F5 | C30: S050 | G30: บริษัท ฟอร์เมชั่น ไฟฟ์ จำกัด

Sheet Dimension Value Type
A1: Dimension Value Type
A3: Total
A4: Standard
